BEGIN:VCALENDAR
VERSION:2.0
CALSCALE:GREGORIAN
METHOD:PUBLISH
X-WR-TIMEZONE:Australia/Sydney
BEGIN:VTIMEZONE
TZID:Australia/Sydney
BEGIN:STANDARD
TZNAME:AEST
END:STANDARD
END:VTIMEZONE
BEGIN:VEVENT
DTSTART;TZID=Australia/Sydney:20260425T063000
DTEND;TZID=Australia/Sydney:20260425T080000
DTSTAMP:20260421T222226
UID:3271
SUMMARY:ANZAC Day Dawn Service 2026
DESCRIPTION:




The Dunkeld community are invited to attend the &amp;nbsp;Dunkeld RSL Sub-Branch ANZAC Day Dawn Service at the Cenotaph in the Dunkeld Memorial Park commencing at 6.30am sharp on Saturday 25 April 2026.
Following the service, a free cuppa and barbecue breakfast (provided by the Dunkeld and District Lions Club) will be held in front of the Dunkeld Visitor Information Centre.


SEQUENCE:0
STATUS:CONFIRMED
TRANSP:OPAQUE
END:VEVENT
END:VCALENDAR