BEGIN:VCALENDAR
VERSION:2.0
CALSCALE:GREGORIAN
METHOD:PUBLISH
X-WR-TIMEZONE:Australia/Sydney
BEGIN:VTIMEZONE
TZID:Australia/Sydney
BEGIN:STANDARD
TZNAME:AEST
END:STANDARD
END:VTIMEZONE
BEGIN:VEVENT
DTSTART;TZID=Australia/Sydney:20260429T091500
DTEND;TZID=Australia/Sydney:20260429T111500
DTSTAMP:20260421T235428
UID:3270
SUMMARY:Puberty Education sessions 2026
DESCRIPTION:




The Puberty Education sessions for the Year 6 and Year 5 students will be conducted by WDHS staff and held on Wednesday 29 April 2026. Sessions will include information on body changes, how to manage body changes, who children can talk to with their concerns, respect and responsibility for themselves and others.


SEQUENCE:0
STATUS:CONFIRMED
TRANSP:OPAQUE
END:VEVENT
END:VCALENDAR