BEGIN:VCALENDAR
VERSION:2.0
CALSCALE:GREGORIAN
METHOD:PUBLISH
X-WR-TIMEZONE:Australia/Sydney
BEGIN:VTIMEZONE
TZID:Australia/Sydney
BEGIN:STANDARD
TZNAME:AEST
END:STANDARD
END:VTIMEZONE
BEGIN:VEVENT
DTSTART;TZID=Australia/Sydney:20260427T153000
DTEND;TZID=Australia/Sydney:20260427T170000
DTSTAMP:20260421T222610
UID:3264
SUMMARY:Parent Teacher Conferences 2026
DESCRIPTION:




Parent Teacher Conferences will be held during the week Monday 27 April to Wednesday 6 May 2026. Bookings are to be made through the Compass portal.


SEQUENCE:0
STATUS:CONFIRMED
TRANSP:OPAQUE
END:VEVENT
END:VCALENDAR