BEGIN:VCALENDAR
VERSION:2.0
CALSCALE:GREGORIAN
METHOD:PUBLISH
X-WR-TIMEZONE:Australia/Sydney
BEGIN:VTIMEZONE
TZID:Australia/Sydney
BEGIN:STANDARD
TZNAME:AEST
END:STANDARD
END:VTIMEZONE
BEGIN:VEVENT
DTSTART;TZID=Australia/Sydney:20260428T193000
DTEND;TZID=Australia/Sydney:20260428T210000
DTSTAMP:20260421T222647
UID:3263
SUMMARY:School Council Meeting
DESCRIPTION:




School Council Meeting will be held on Tuesday 28 April 2026 commencing at 7.30pm in the Wurgarri Meeting Room.


SEQUENCE:0
STATUS:CONFIRMED
TRANSP:OPAQUE
END:VEVENT
END:VCALENDAR