BEGIN:VCALENDAR
VERSION:2.0
CALSCALE:GREGORIAN
METHOD:PUBLISH
X-WR-TIMEZONE:Australia/Sydney
BEGIN:VTIMEZONE
TZID:Australia/Sydney
BEGIN:STANDARD
TZNAME:AEST
END:STANDARD
END:VTIMEZONE
BEGIN:VEVENT
DTSTART;TZID=Australia/Sydney:20260424T000100
DTEND;TZID=Australia/Sydney:20260424T143000
DTSTAMP:20260421T222226
UID:3262
SUMMARY:House Cross Country 2026
DESCRIPTION:




House Cross Country events will be held on Friday 24 April 2026 commencing at 12.00 noon. Students to wear their respective House colours i.e. red polo shirt for Wannon and royal blue polo shirt for Sturgeon. If your child is a school bus traveller, please let the Admin Office know if they are not on the bus in the afternoon.


SEQUENCE:0
STATUS:CONFIRMED
TRANSP:OPAQUE
END:VEVENT
END:VCALENDAR