BEGIN:VCALENDAR
VERSION:2.0
CALSCALE:GREGORIAN
METHOD:PUBLISH
X-WR-TIMEZONE:Australia/Sydney
BEGIN:VTIMEZONE
TZID:Australia/Sydney
BEGIN:STANDARD
TZNAME:AEST
END:STANDARD
END:VTIMEZONE
BEGIN:VEVENT
DTSTART;TZID=Australia/Sydney:20260401T091500
DTEND;TZID=Australia/Sydney:20260401T103000
DTSTAMP:20260424T014824
UID:3260
SUMMARY:Easter Hat Parade 2026
DESCRIPTION:




Students are encouraged to get crafty and design an amazing Easter hat made from items you have at home. An Easter Hat Parade will be held during the school assembly commencing at 9.15am on Wednesday 1 April 2026.


SEQUENCE:0
STATUS:CONFIRMED
TRANSP:OPAQUE
END:VEVENT
END:VCALENDAR