BEGIN:VCALENDAR
VERSION:2.0
CALSCALE:GREGORIAN
METHOD:PUBLISH
X-WR-TIMEZONE:Australia/Sydney
BEGIN:VTIMEZONE
TZID:Australia/Sydney
BEGIN:STANDARD
TZNAME:AEST
END:STANDARD
END:VTIMEZONE
BEGIN:VEVENT
DTSTART;TZID=Australia/Sydney:20260504T070000
DTEND;TZID=Australia/Sydney:20260504T163000
DTSTAMP:20260420T232906
UID:3259
SUMMARY:Year 6 Excursion to GRIP Leadership Conference 2026
DESCRIPTION:




Year 6 students and staff will be attending the GRIP Student Leadership Conference at Sir Robert Helpmann Theatre, Mount Gambier on Monday 4 May 2026.


SEQUENCE:0
STATUS:CONFIRMED
TRANSP:OPAQUE
END:VEVENT
END:VCALENDAR