BEGIN:VCALENDAR
VERSION:2.0
CALSCALE:GREGORIAN
METHOD:PUBLISH
X-WR-TIMEZONE:Australia/Sydney
BEGIN:VTIMEZONE
TZID:Australia/Sydney
BEGIN:STANDARD
TZNAME:AEST
END:STANDARD
END:VTIMEZONE
BEGIN:VEVENT
DTSTART;TZID=Australia/Sydney:20260401T091500
DTEND;TZID=Australia/Sydney:20260401T103000
DTSTAMP:20260424T020918
UID:3258
SUMMARY:School Assembly
DESCRIPTION:




Final School Assembly for Term 1 will be held on Wednesday 1 April 2026 commencing at 9.15am in Mud-dadjug Hall.&amp;nbsp;Parents and community members are invited to attend.


SEQUENCE:0
STATUS:CONFIRMED
TRANSP:OPAQUE
END:VEVENT
END:VCALENDAR