BEGIN:VCALENDAR
VERSION:2.0
CALSCALE:GREGORIAN
METHOD:PUBLISH
X-WR-TIMEZONE:Australia/Sydney
BEGIN:VTIMEZONE
TZID:Australia/Sydney
BEGIN:STANDARD
TZNAME:AEST
END:STANDARD
END:VTIMEZONE
BEGIN:VEVENT
DTSTART;TZID=Australia/Sydney:20260430T000000
DTEND;TZID=Australia/Sydney:20260430T152500
DTSTAMP:20260424T021832
UID:3256
SUMMARY:Caulfield Grammar School Visit and Concert
DESCRIPTION:




A group of Caulfield Grammar School Music students will visit our school as part of their tour of Western Victoria. The Music students will hold a concert for all our students in Mud-Dadjug Hall on Thursday 30 April 2026. The school will be providing lunch for our visitors.


SEQUENCE:0
STATUS:CONFIRMED
TRANSP:OPAQUE
END:VEVENT
END:VCALENDAR