BEGIN:VCALENDAR
VERSION:2.0
CALSCALE:GREGORIAN
METHOD:PUBLISH
X-WR-TIMEZONE:Australia/Sydney
BEGIN:VTIMEZONE
TZID:Australia/Sydney
BEGIN:STANDARD
TZNAME:AEST
END:STANDARD
END:VTIMEZONE
BEGIN:VEVENT
DTSTART;TZID=Australia/Sydney:20260420T090000
DTEND;TZID=Australia/Sydney:20260420T153000
DTSTAMP:20260424T015251
UID:3251
SUMMARY:First Day of Term 2 2026
DESCRIPTION:




Term 2 will commence on Monday 20 April 2026.


SEQUENCE:0
STATUS:CONFIRMED
TRANSP:OPAQUE
END:VEVENT
END:VCALENDAR