BEGIN:VCALENDAR
VERSION:2.0
CALSCALE:GREGORIAN
METHOD:PUBLISH
X-WR-TIMEZONE:Australia/Sydney
BEGIN:VTIMEZONE
TZID:Australia/Sydney
BEGIN:STANDARD
TZNAME:AEST
END:STANDARD
END:VTIMEZONE
BEGIN:VEVENT
DTSTART;TZID=Australia/Sydney:20260406
DTEND;TZID=Australia/Sydney:20260406
DTSTAMP:20260424T014802
UID:3250
SUMMARY:Easter Monday Public Holiday 2026
DESCRIPTION:




Easter Monday Public Holiday on Monday 6 April 2026.


SEQUENCE:0
STATUS:CONFIRMED
TRANSP:OPAQUE
END:VEVENT
END:VCALENDAR