BEGIN:VCALENDAR
VERSION:2.0
CALSCALE:GREGORIAN
METHOD:PUBLISH
X-WR-TIMEZONE:Australia/Sydney
BEGIN:VTIMEZONE
TZID:Australia/Sydney
BEGIN:STANDARD
TZNAME:AEST
END:STANDARD
END:VTIMEZONE
BEGIN:VEVENT
DTSTART;TZID=Australia/Sydney:20260402T090000
DTEND;TZID=Australia/Sydney:20260402T143000
DTSTAMP:20260424T015909
UID:3249
SUMMARY:Last day of Term 1 2026 - Early Dismissal at 2.30pm
DESCRIPTION:




Last day of Term 1 will be held on Thursday 2 April 2026, with early dismissal at 2.30pm.&amp;nbsp; School buses will run one hour earlier in the afternoon.


SEQUENCE:0
STATUS:CONFIRMED
TRANSP:OPAQUE
END:VEVENT
END:VCALENDAR