BEGIN:VCALENDAR
VERSION:2.0
CALSCALE:GREGORIAN
METHOD:PUBLISH
X-WR-TIMEZONE:Australia/Sydney
BEGIN:VTIMEZONE
TZID:Australia/Sydney
BEGIN:STANDARD
TZNAME:AEST
END:STANDARD
END:VTIMEZONE
BEGIN:VEVENT
DTSTART;TZID=Australia/Sydney:20260320T090000
DTEND;TZID=Australia/Sydney:20260320T152500
DTSTAMP:20260425T030211
UID:3240
SUMMARY:NAPLAN Testing 2026
DESCRIPTION:




NAPLAN testing will occur from Wednesday 11 to Friday 20 March.&amp;nbsp; NAPLAN stands for the National Assessment Program - Literacy and Numeracy.&amp;nbsp; They are tests for English and Maths that every student across Australia completes.&amp;nbsp; NAPLAN happens annually and all students in Years 3, 5, 7 and 9 have to complete the tests.&amp;nbsp; Please try and ensure that your child is present on each day where a test is scheduled.


SEQUENCE:0
STATUS:CONFIRMED
TRANSP:OPAQUE
END:VEVENT
END:VCALENDAR