BEGIN:VCALENDAR
VERSION:2.0
CALSCALE:GREGORIAN
METHOD:PUBLISH
X-WR-TIMEZONE:Australia/Sydney
BEGIN:VTIMEZONE
TZID:Australia/Sydney
BEGIN:STANDARD
TZNAME:AEST
END:STANDARD
END:VTIMEZONE
BEGIN:VEVENT
DTSTART;TZID=Australia/Sydney:20250919T090000
DTEND;TZID=Australia/Sydney:20250919T143000
DTSTAMP:20260421T202350
UID:3144
SUMMARY:Footy/Sports Colours Day 2025
DESCRIPTION:




Footy/Sports Colours Day will be held on Friday 19 September and students are encouraged to wear casual dress with their favourite team colours. Dunkeld and District Lions Club members will be providing a complimentary &amp;ldquo;Sausage Sizzle&amp;rdquo; for lunch for students and staff. Various multi-age activities will be held in the morning, before an early lunch at 12.30pm.&amp;nbsp;


SEQUENCE:0
STATUS:CONFIRMED
TRANSP:OPAQUE
END:VEVENT
END:VCALENDAR