BEGIN:VCALENDAR
VERSION:2.0
CALSCALE:GREGORIAN
METHOD:PUBLISH
X-WR-TIMEZONE:Australia/Sydney
BEGIN:VTIMEZONE
TZID:Australia/Sydney
BEGIN:STANDARD
TZNAME:AEST
END:STANDARD
END:VTIMEZONE
BEGIN:VEVENT
DTSTART;TZID=Australia/Sydney:20250919T090000
DTEND;TZID=Australia/Sydney:20250919T143000
DTSTAMP:20260421T203212
UID:3008
SUMMARY:Last Day for Term 3 2025 - Early Dismissal at 2.30pm
DESCRIPTION:




The last day for Term 3 will be held on Friday 19 September 2025, with early dismissal at 2.30pm. School buses will run one hour earlier to their normal timetables.


SEQUENCE:0
STATUS:CONFIRMED
TRANSP:OPAQUE
END:VEVENT
END:VCALENDAR