BEGIN:VCALENDAR
VERSION:2.0
CALSCALE:GREGORIAN
METHOD:PUBLISH
X-WR-TIMEZONE:Australia/Sydney
BEGIN:VTIMEZONE
TZID:Australia/Sydney
BEGIN:STANDARD
TZNAME:AEST
END:STANDARD
END:VTIMEZONE
BEGIN:VEVENT
DTSTART;TZID=Australia/Sydney:20190218T090000
DTEND;TZID=Australia/Sydney:20190218T152500
DTSTAMP:20260425T054435
UID:1444
SUMMARY:School Lunch Orders commence for 2019
DESCRIPTION:




Izzy&#039;s Mountain View Cafe provides school lunch orders to students and staff on Monday, Wednesday and Friday of each week.


SEQUENCE:0
STATUS:CONFIRMED
TRANSP:OPAQUE
END:VEVENT
END:VCALENDAR