BEGIN:VCALENDAR
VERSION:2.0
CALSCALE:GREGORIAN
METHOD:PUBLISH
X-WR-TIMEZONE:Australia/Sydney
BEGIN:VTIMEZONE
TZID:Australia/Sydney
BEGIN:STANDARD
TZNAME:AEST
END:STANDARD
END:VTIMEZONE
BEGIN:VEVENT
DTSTART;TZID=Australia/Sydney:20190226T084500
DTEND;TZID=Australia/Sydney:20190226T152500
DTSTAMP:20260425T061053
UID:1443
SUMMARY:Year 6 Transition Day at Baimbridge College
DESCRIPTION:




Year 6 Students are invited to attend a full day of classes at Baimbridge College Secondary School in Hamilton.&amp;nbsp; An information session for parents will be held the same day commencing at 6.00pm meeting at the reception area (West Campus).


SEQUENCE:0
STATUS:CONFIRMED
TRANSP:OPAQUE
END:VEVENT
END:VCALENDAR