BEGIN:VCALENDAR
VERSION:2.0
CALSCALE:GREGORIAN
METHOD:PUBLISH
X-WR-TIMEZONE:Australia/Sydney
BEGIN:VTIMEZONE
TZID:Australia/Sydney
BEGIN:STANDARD
TZNAME:AEST
END:STANDARD
END:VTIMEZONE
BEGIN:VEVENT
DTSTART;TZID=Australia/Sydney:20190221T180000
DTEND;TZID=Australia/Sydney:20190221T193000
DTSTAMP:20260425T055546
UID:1442
SUMMARY:SAKG Kitchen and Garden Information Evening
DESCRIPTION:




SAKG Program information evening commencing at 6.00 pm at the school on Thursday 21 February 2019.&amp;nbsp;6.00pm - 6.30pm &amp;nbsp;Growing and Harvesting in the Garden with Lisa McIntyre.6.30pm - 7.00pm &amp;nbsp;Preparing and Sharing in the Kitchen with Clare Kennedy.7.00pm &amp;nbsp; &amp;nbsp; &amp;nbsp; &amp;nbsp; &amp;nbsp; &amp;nbsp; &amp;nbsp; &amp;nbsp; Enjoy dinner all together.We encourage all interested people and Friends of the Kitchen Garden to attend this informative, enjoyable and fun evening, to familiarise yourself with the Garden and Kitchen, the equipment and the philosophy behind the Stephanie Alexander Kitchen Garden Program.Please RSVP to the school office if you are able to attend.


SEQUENCE:0
STATUS:CONFIRMED
TRANSP:OPAQUE
END:VEVENT
END:VCALENDAR