BEGIN:VCALENDAR
VERSION:2.0
CALSCALE:GREGORIAN
METHOD:PUBLISH
X-WR-TIMEZONE:Australia/Sydney
BEGIN:VTIMEZONE
TZID:Australia/Sydney
BEGIN:STANDARD
TZNAME:AEST
END:STANDARD
END:VTIMEZONE
BEGIN:VEVENT
DTSTART;TZID=Australia/Sydney:20190225T090000
DTEND;TZID=Australia/Sydney:20190225T152500
DTSTAMP:20260425T055705
UID:1430
SUMMARY:Parent Teacher Interviews
DESCRIPTION:




Parent Teacher Interviews will be held during the week Monday 25 February to Friday 1 March 2019. &amp;nbsp;If you have not sent in your interview time slip, could you please contact your child&#039;s teacher to discuss a time for an interview.


SEQUENCE:0
STATUS:CONFIRMED
TRANSP:OPAQUE
END:VEVENT
END:VCALENDAR