BEGIN:VCALENDAR
VERSION:2.0
CALSCALE:GREGORIAN
METHOD:PUBLISH
X-WR-TIMEZONE:Australia/Sydney
BEGIN:VTIMEZONE
TZID:Australia/Sydney
BEGIN:STANDARD
TZNAME:AEST
END:STANDARD
END:VTIMEZONE
BEGIN:VEVENT
DTSTART;TZID=Australia/Sydney:20190228T111500
DTEND;TZID=Australia/Sydney:20190228T152500
DTSTAMP:20260425T055201
UID:1428
SUMMARY:SAKG Kitchen and Garden classes
DESCRIPTION:




SAKG Kitchen and Garden classes will be held on Thursday 28 February 2019. Year 6 students will be preparing and sharing in the Kitchen and will need to bring $4.00 for their Kitchen class.


SEQUENCE:0
STATUS:CONFIRMED
TRANSP:OPAQUE
END:VEVENT
END:VCALENDAR