BEGIN:VCALENDAR
VERSION:2.0
CALSCALE:GREGORIAN
METHOD:PUBLISH
X-WR-TIMEZONE:Australia/Sydney
BEGIN:VTIMEZONE
TZID:Australia/Sydney
BEGIN:STANDARD
TZNAME:AEST
END:STANDARD
END:VTIMEZONE
BEGIN:VEVENT
DTSTART;TZID=Australia/Sydney:20190222T110000
DTEND;TZID=Australia/Sydney:20190222T150000
DTSTAMP:20260425T055431
UID:1427
SUMMARY:SGSSA Swimming Sports at Penshurst Swimming Pool
DESCRIPTION:




The 2019 SGSSA Swimming Sports will be held at the Penshurst Swimming Pool on Friday 22 February, commencing at 11.00am. Parents are responsible for transporting their children to this event.


SEQUENCE:0
STATUS:CONFIRMED
TRANSP:OPAQUE
END:VEVENT
END:VCALENDAR