BEGIN:VCALENDAR
VERSION:2.0
CALSCALE:GREGORIAN
METHOD:PUBLISH
X-WR-TIMEZONE:Australia/Sydney
BEGIN:VTIMEZONE
TZID:Australia/Sydney
BEGIN:STANDARD
TZNAME:AEST
END:STANDARD
END:VTIMEZONE
BEGIN:VEVENT
DTSTART;TZID=Australia/Sydney:20190215T093000
DTEND;TZID=Australia/Sydney:20190215T153000
DTSTAMP:20260425T060254
UID:1426
SUMMARY:House Swimming Sports - No School Assembly
DESCRIPTION:




House Swimming Sports will be held at the Dunkeld Swimming Pool.&amp;nbsp;9.30am &amp;nbsp; &amp;nbsp; Medley events for 10, 11 and 12 years old.10.30am &amp;nbsp; Grade Prep water display and activities.11.00am &amp;nbsp; Grade One water display and activities.11.30am - 12.00 noon &amp;nbsp;BYO Picnic Lunch in the Memorial Park.12.15pm &amp;nbsp; Individual swimming events commence.Approximate finishing time for Swimming Sports between 2.45pm and 3.15pm.Prep and Year 1 students come back to school after lunch.&amp;nbsp; Parents are welcome to take their Prep or Year 1 students home from the swimming pool after lunch but they are not able to stay at the pool to watch older siblings.The Mirranatwa and Woodhouse School Buses will operate as normal in the afternoon from school.Please contact the school on 5577 2384, if you have any queries.


SEQUENCE:0
STATUS:CONFIRMED
TRANSP:OPAQUE
END:VEVENT
END:VCALENDAR