BEGIN:VCALENDAR
VERSION:2.0
CALSCALE:GREGORIAN
METHOD:PUBLISH
X-WR-TIMEZONE:Australia/Sydney
BEGIN:VTIMEZONE
TZID:Australia/Sydney
BEGIN:STANDARD
TZNAME:AEST
END:STANDARD
END:VTIMEZONE
BEGIN:VEVENT
DTSTART;TZID=Australia/Sydney:20180207T090000
DTEND;TZID=Australia/Sydney:20180207T152500
RRULE:FREQ=WEEKLY;UNTIL=20180228T152500;BYDAY=WE
DTSTAMP:20260425T022047
UID:1209
SUMMARY:Prep students do not attend school
DESCRIPTION:During the month of February, Prep students do not attend school on a Wednesday.
SEQUENCE:0
STATUS:CONFIRMED
TRANSP:OPAQUE
END:VEVENT
END:VCALENDAR