BEGIN:VCALENDAR
VERSION:2.0
CALSCALE:GREGORIAN
METHOD:PUBLISH
X-WR-TIMEZONE:Australia/Sydney
BEGIN:VTIMEZONE
TZID:Australia/Sydney
BEGIN:STANDARD
TZNAME:AEST
END:STANDARD
END:VTIMEZONE
BEGIN:VEVENT
DTSTART;TZID=Australia/Sydney:20180212T001500
DTEND;TZID=Australia/Sydney:20180212T150000
RRULE:FREQ=DAILY;UNTIL=20180215T150000
DTSTAMP:20260425T022749
UID:1207
SUMMARY:School Swimming Program 2018
DESCRIPTION:The Dunkeld Consolidated School&#039;s 2017 Swimming Program will be held daily (weather permitting)&amp;nbsp;from&amp;nbsp;Monday 5 February&amp;nbsp;to&amp;nbsp;Thursday 15&amp;nbsp;February, culminating with the House Swimming Sports on Friday 16 February.&amp;nbsp; Ms Lea McArthur and Mrs Jen McArthur&amp;nbsp;will be co-ordinating the swimming program.&amp;nbsp; Students are to bring their bathers, towels and swim shirt to school each day.&amp;nbsp; All items of clothing are&amp;nbsp;to be clearly named.
SEQUENCE:0
STATUS:CONFIRMED
TRANSP:OPAQUE
END:VEVENT
END:VCALENDAR